BEGIN:VCALENDAR
VERSION:2.0
PRODID:-//Gesellschaft für Kieler Stadtgeschichte e.V. - ECPv6.15.20//NONSGML v1.0//EN
CALSCALE:GREGORIAN
METHOD:PUBLISH
X-ORIGINAL-URL:https://kieler-stadtgeschichte.de
X-WR-CALDESC:Veranstaltungen für Gesellschaft für Kieler Stadtgeschichte e.V.
REFRESH-INTERVAL;VALUE=DURATION:PT1H
X-Robots-Tag:noindex
X-PUBLISHED-TTL:PT1H
BEGIN:VTIMEZONE
TZID:Europe/Berlin
BEGIN:DAYLIGHT
TZOFFSETFROM:+0100
TZOFFSETTO:+0200
TZNAME:CEST
DTSTART:20240331T010000
END:DAYLIGHT
BEGIN:STANDARD
TZOFFSETFROM:+0200
TZOFFSETTO:+0100
TZNAME:CET
DTSTART:20241027T010000
END:STANDARD
BEGIN:DAYLIGHT
TZOFFSETFROM:+0100
TZOFFSETTO:+0200
TZNAME:CEST
DTSTART:20250330T010000
END:DAYLIGHT
BEGIN:STANDARD
TZOFFSETFROM:+0200
TZOFFSETTO:+0100
TZNAME:CET
DTSTART:20251026T010000
END:STANDARD
BEGIN:DAYLIGHT
TZOFFSETFROM:+0100
TZOFFSETTO:+0200
TZNAME:CEST
DTSTART:20260329T010000
END:DAYLIGHT
BEGIN:STANDARD
TZOFFSETFROM:+0200
TZOFFSETTO:+0100
TZNAME:CET
DTSTART:20261025T010000
END:STANDARD
END:VTIMEZONE
BEGIN:VEVENT
DTSTART;TZID=Europe/Berlin:20250603T090000
DTEND;TZID=Europe/Berlin:20250830T200000
DTSTAMP:20260423T024105
CREATED:20250620T124755Z
LAST-MODIFIED:20250620T131707Z
UID:251464-1748941200-1756584000@kieler-stadtgeschichte.de
SUMMARY:Sommer-Ausstellung: Gedenken an Kieler Opfer des NS-Terrors
DESCRIPTION:Universitätsbibliothek würdigt Dr. Clara Stier-Somlo (1899-1942) \nDie Universitätsbibliothek Kiel (UB Kiel) will das Wirken der früheren Bibliothekarin Dr. Clara Stier-Somlo erforschen. Ihr Leben ist laut UB-Direktorin Dr. Kerstin Helmkamp nicht nur Zeugnis eines individuellen Schicksals unter dem NS-Terror\, sondern auch Teil der Geschichte der Universität Kiel.  \nDie promovierte Nationalökonomin arbeitete bis 1933 an der Universitätsbibliothek und wurde aufgrund ihrer jüdischen Herkunft entlassen – unter dem Vorwurf\, zu viel katholische und jüdische Literatur für den Bestand beschafft zu haben. Sie emigrierte noch im selben Jahr nach Prag. 1942 wurde sie in das Vernichtungslager Sobibor deportiert und dort ermordet. \nDiesen Sommer gedenkt die UB Kiel ihrer früheren Bibliothekarin mit einer Audioinstallation. Schüler*innen des Kieler Abendgymnasiums und des Beruflichen Gymnasiums am @rbzwirtschaft.kiel haben persönliche Briefe von Dr. Stier-Somlo und Exillyrik aus der NS-Zeit eingelesen\, die über ein Telefon auf einem Schreibtisch im Foyer der Universitätsbibliothek angehört werden können.  \nBei Nachfragen wenden Sie sich bitte unter info@ub.uni-kiel.de oder telefonisch unter 0431/880-4701 an die Universitätsbibliothek Kiel
URL:https://kieler-stadtgeschichte.de/veranstaltung/gedenken-an-kieler-opfer-des-ns-terrors/
LOCATION:Universitätsbibliothek |\, Leibnizstraße 9\, Kiel\, 24118
ATTACH;FMTTYPE=image/jpeg:https://kieler-stadtgeschichte.de/wp-content/uploads/2025/06/belinda-fewings-FoI7QcUt0BE-unsplash-scaled.jpg
END:VEVENT
BEGIN:VEVENT
DTSTART;TZID=Europe/Berlin:20250717T160000
DTEND;TZID=Europe/Berlin:20250717T180000
DTSTAMP:20260423T024105
CREATED:20250319T172051Z
LAST-MODIFIED:20250430T120303Z
UID:251332-1752768000-1752775200@kieler-stadtgeschichte.de
SUMMARY:Kiel um 1875 – Die Stadt im Gründungsjahr unserer Gesellschaft
DESCRIPTION:Anmeldung bitte über die Geschäftsstelle! \n\nUwe Trautsch zählt zu den profilierten und bekannten Stadtführern Kiels. Es freut uns sehr\, dass er sich zu diesem besonderen Jubiläums-Rundgang sofort bereit erklärt hat. Herr Trautsch führt uns zurück in unser Gründungsjahr 1875\, stellt uns das Leben in Kiel vor und gibt damit einen spannenden Einblick in die damalige Zeit. \nDie Gruppengröße ist begrenzt. Wir bitten um Anmeldung über unsere Geschäftsstelle. \nTreffpunkt: 16:00 Uhr an der Nikolaikirche. \nFoto: Die Alte Veste am Alten Markt 2 um 1878. Das damalige städtische Gefängnis enthielt im Erdgeschoss Verkaufsbuden und -stände (Schrangen) der Schlachter.\nFotograf: Arthur Renard (1858-1934)\nStAK; Sign. 44.597\nRechtsstatus: Gemeinfrei
URL:https://kieler-stadtgeschichte.de/veranstaltung/kiel-um-1875-die-stadt-im-gruendungsjahr-unserer-gesellschaft/
LOCATION:Nikolaikirche |\, Alter Markt\, Kiel\, 24103
ATTACH;FMTTYPE=image/jpeg:https://kieler-stadtgeschichte.de/wp-content/uploads/2025/03/StAK-44.597-Alte-Veste-am-Alten-Markt-2-um-1878_Renard-Arthur.jpg
END:VEVENT
END:VCALENDAR