BEGIN:VCALENDAR
VERSION:2.0
PRODID:-//Gesellschaft für Kieler Stadtgeschichte e.V. - ECPv6.15.20//NONSGML v1.0//EN
CALSCALE:GREGORIAN
METHOD:PUBLISH
X-WR-CALNAME:Gesellschaft für Kieler Stadtgeschichte e.V.
X-ORIGINAL-URL:https://kieler-stadtgeschichte.de
X-WR-CALDESC:Veranstaltungen für Gesellschaft für Kieler Stadtgeschichte e.V.
REFRESH-INTERVAL;VALUE=DURATION:PT1H
X-Robots-Tag:noindex
X-PUBLISHED-TTL:PT1H
BEGIN:VTIMEZONE
TZID:Europe/Berlin
BEGIN:DAYLIGHT
TZOFFSETFROM:+0100
TZOFFSETTO:+0200
TZNAME:CEST
DTSTART:20240331T010000
END:DAYLIGHT
BEGIN:STANDARD
TZOFFSETFROM:+0200
TZOFFSETTO:+0100
TZNAME:CET
DTSTART:20241027T010000
END:STANDARD
BEGIN:DAYLIGHT
TZOFFSETFROM:+0100
TZOFFSETTO:+0200
TZNAME:CEST
DTSTART:20250330T010000
END:DAYLIGHT
BEGIN:STANDARD
TZOFFSETFROM:+0200
TZOFFSETTO:+0100
TZNAME:CET
DTSTART:20251026T010000
END:STANDARD
BEGIN:DAYLIGHT
TZOFFSETFROM:+0100
TZOFFSETTO:+0200
TZNAME:CEST
DTSTART:20260329T010000
END:DAYLIGHT
BEGIN:STANDARD
TZOFFSETFROM:+0200
TZOFFSETTO:+0100
TZNAME:CET
DTSTART:20261025T010000
END:STANDARD
END:VTIMEZONE
BEGIN:VEVENT
DTSTART;TZID=Europe/Berlin:20250603T090000
DTEND;TZID=Europe/Berlin:20250830T200000
DTSTAMP:20260422T232722
CREATED:20250620T124755Z
LAST-MODIFIED:20250620T131707Z
UID:251464-1748941200-1756584000@kieler-stadtgeschichte.de
SUMMARY:Sommer-Ausstellung: Gedenken an Kieler Opfer des NS-Terrors
DESCRIPTION:Universitätsbibliothek würdigt Dr. Clara Stier-Somlo (1899-1942) \nDie Universitätsbibliothek Kiel (UB Kiel) will das Wirken der früheren Bibliothekarin Dr. Clara Stier-Somlo erforschen. Ihr Leben ist laut UB-Direktorin Dr. Kerstin Helmkamp nicht nur Zeugnis eines individuellen Schicksals unter dem NS-Terror\, sondern auch Teil der Geschichte der Universität Kiel.  \nDie promovierte Nationalökonomin arbeitete bis 1933 an der Universitätsbibliothek und wurde aufgrund ihrer jüdischen Herkunft entlassen – unter dem Vorwurf\, zu viel katholische und jüdische Literatur für den Bestand beschafft zu haben. Sie emigrierte noch im selben Jahr nach Prag. 1942 wurde sie in das Vernichtungslager Sobibor deportiert und dort ermordet. \nDiesen Sommer gedenkt die UB Kiel ihrer früheren Bibliothekarin mit einer Audioinstallation. Schüler*innen des Kieler Abendgymnasiums und des Beruflichen Gymnasiums am @rbzwirtschaft.kiel haben persönliche Briefe von Dr. Stier-Somlo und Exillyrik aus der NS-Zeit eingelesen\, die über ein Telefon auf einem Schreibtisch im Foyer der Universitätsbibliothek angehört werden können.  \nBei Nachfragen wenden Sie sich bitte unter info@ub.uni-kiel.de oder telefonisch unter 0431/880-4701 an die Universitätsbibliothek Kiel
URL:https://kieler-stadtgeschichte.de/veranstaltung/gedenken-an-kieler-opfer-des-ns-terrors/
LOCATION:Universitätsbibliothek |\, Leibnizstraße 9\, Kiel\, 24118
ATTACH;FMTTYPE=image/jpeg:https://kieler-stadtgeschichte.de/wp-content/uploads/2025/06/belinda-fewings-FoI7QcUt0BE-unsplash-scaled.jpg
END:VEVENT
BEGIN:VEVENT
DTSTART;TZID=Europe/Berlin:20250728T110000
DTEND;TZID=Europe/Berlin:20250816T180000
DTSTAMP:20260422T232722
CREATED:20250113T163527Z
LAST-MODIFIED:20250710T080532Z
UID:250684-1753700400-1755367200@kieler-stadtgeschichte.de
SUMMARY:150 Jahre Stadtgeschichte - Kein Ende in Sicht!
DESCRIPTION:Geschichte prägt unsere Gesellschaft. In Kiel zeugen davon viele Spuren. Für uns und etliche andere sind sie Anstoß\, genauer hin zu schauen und Antworten zu suchen\, wie Kiel zu der Stadt wurde\, die sie heute ist. \nZu unserem Jubiläum laden wir Sie ein\, gemeinsam mit Gästen aus Kultur\, Forschung und Stadtleben auf Spurensuche zu gehen. Mit dabei sind Historikerinnen und Historiker\, Autorinnen und Autoren\, Menschen aus der Dramaturgie\, der Fotografie\, dem Verlagswesen – sie alle erzählen in Lesungen\, Vorträgen und Gesprächen\, was ihnen Stadtgeschichte bedeutet\, wie sie arbeiten und warum das Erinnern wichtig ist. \nUnd auch Sie sind gefragt: Machen Sie mit beim Stadtquiz – es gibt tolle Preise zu gewinnen! Oder erzählen Sie uns von Ihrer Stadtgeschichte: Was hat Kiel im 20. Jahrhundert geprägt? Welche Geschichten verbinden Sie mit der Stadt? Und wie sieht die Zukunft der Stadtgeschichte aus? \nFeiern Sie mit uns – in der Mitte der Stadt! \n\nFoto: Anne Krohn\, privat \n 
URL:https://kieler-stadtgeschichte.de/veranstaltung/wir-vermitteln-geschichten/
LOCATION:Pop-up-Pavillon |\, Alter Markt 17\, Kiel\, 24103
ATTACH;FMTTYPE=image/jpeg:https://kieler-stadtgeschichte.de/wp-content/uploads/2025/07/PXL_20250618_075247370-scaled.jpg
END:VEVENT
BEGIN:VEVENT
DTSTART;TZID=Europe/Berlin:20250729T160000
DTEND;TZID=Europe/Berlin:20250729T170000
DTSTAMP:20260422T232722
CREATED:20250718T114750Z
LAST-MODIFIED:20250718T114750Z
UID:251530-1753804800-1753808400@kieler-stadtgeschichte.de
SUMMARY:"Gut zu wissen" - Vortrag von Dr. Laura Potzuweit
DESCRIPTION:Die Kieler Historikerin Dr. Laura Potzuweit läßt uns in ihrem Vortrag am 29.07. teilhaben an ihren Forschungen zur Rolle der Kieler Polizei in der NS-Zeit unter dem Titel ‚269 Polizeiangehörige\, 269 Täter? Personengeschichtliche Forschungen zu den drei Kieler Gedenktafeln in der Blumenstraße‘: „Als wissenschaftliche Mitarbeiterin an der Abteilung für Regionalgeschichte der CAU Kiel ist die allgemeine Stadtgeschichte – insbesondere die unserer Landeshauptstadt – zwangsläufig ein zentrales Forschungsthema\, liegt sie doch buchstäblich direkt vor der Haustür. Gerade durch diese räumliche Nähe entsteht unweigerlich ein besonderes\, persönlicheres Verhältnis zur Geschichte. Die drei Gedenktafeln für die Polizeiangehörigen in der Blumenstraße sind in diesem Zusammenhang nicht nur ein anschauliches Beispiel\, sondern sie eröffnen zugleich die Möglichkeit\, den Nationalsozialismus im Kleinen sowie den Umgang mit seiner Erinnerung in der Nachkriegszeit am Beispiel Kiels nachzuvollziehen und zugleich die Ambivalenz von Täterbiographien kritisch zu reflektieren.“ \n\nFoto: Dr. Laura Potzuweit\, privat \n 
URL:https://kieler-stadtgeschichte.de/veranstaltung/gut-zu-wissen-vortrag-von-dr-laura-potzuweit/
LOCATION:Pop-up-Pavillon |\, Alter Markt 17\, Kiel\, 24103
ATTACH;FMTTYPE=image/jpeg:https://kieler-stadtgeschichte.de/wp-content/uploads/2025/07/DSC_4238-scaled.jpg
END:VEVENT
END:VCALENDAR