BEGIN:VCALENDAR
VERSION:2.0
PRODID:-//Gesellschaft für Kieler Stadtgeschichte e.V. - ECPv6.15.20//NONSGML v1.0//EN
CALSCALE:GREGORIAN
METHOD:PUBLISH
X-WR-CALNAME:Gesellschaft für Kieler Stadtgeschichte e.V.
X-ORIGINAL-URL:https://kieler-stadtgeschichte.de
X-WR-CALDESC:Veranstaltungen für Gesellschaft für Kieler Stadtgeschichte e.V.
REFRESH-INTERVAL;VALUE=DURATION:PT1H
X-Robots-Tag:noindex
X-PUBLISHED-TTL:PT1H
BEGIN:VTIMEZONE
TZID:Europe/Berlin
BEGIN:DAYLIGHT
TZOFFSETFROM:+0100
TZOFFSETTO:+0200
TZNAME:CEST
DTSTART:20240331T010000
END:DAYLIGHT
BEGIN:STANDARD
TZOFFSETFROM:+0200
TZOFFSETTO:+0100
TZNAME:CET
DTSTART:20241027T010000
END:STANDARD
BEGIN:DAYLIGHT
TZOFFSETFROM:+0100
TZOFFSETTO:+0200
TZNAME:CEST
DTSTART:20250330T010000
END:DAYLIGHT
BEGIN:STANDARD
TZOFFSETFROM:+0200
TZOFFSETTO:+0100
TZNAME:CET
DTSTART:20251026T010000
END:STANDARD
BEGIN:DAYLIGHT
TZOFFSETFROM:+0100
TZOFFSETTO:+0200
TZNAME:CEST
DTSTART:20260329T010000
END:DAYLIGHT
BEGIN:STANDARD
TZOFFSETFROM:+0200
TZOFFSETTO:+0100
TZNAME:CET
DTSTART:20261025T010000
END:STANDARD
END:VTIMEZONE
BEGIN:VEVENT
DTSTART;TZID=Europe/Berlin:20251012T160000
DTEND;TZID=Europe/Berlin:20251012T200000
DTSTAMP:20260422T200117
CREATED:20250903T103145Z
LAST-MODIFIED:20251008T151620Z
UID:251665-1760284800-1760299200@kieler-stadtgeschichte.de
SUMMARY:"Ich wand're durch Theresienstadt ..." - Musikalische Lesung und Zeitzeugengespräch
DESCRIPTION:Wie durch ein Wunder überlebte Edith Erbrich als Kind das Ghetto Theresienstadt – eines von nur 132 überlebenden Kindern. Heute berichtet sie als Zeitzeugin vom Alltag im „Vorhof der Hölle“ und engagiert sich unermüdlich gegen das Vergessen. In der musikalischen Lesung „Ich wand’re durch Theresienstadt …“ trifft ihre eindrucksvolle Lebensgeschichte auf bewegende Texte anderer Inhaftierter und Musik aus dem Lager selbst – gespielt vom Bläserquintett OPUS 45. Schauspieler Roman Knižka rezitiert aus Briefen\, Gedichten und Erinnerungen. Im Anschluss steht Edith Erbrich dem Publikum für ein persönliches Gespräch zur Verfügung.\nStadtpräsidentin Bettina Aust spricht zu Beginn ein Grußwort. Schülerinnen und Schüler der Kieler Humboldtschule wirken am Programm mit.\nTickets gibt es hier: www.theater-kiel.de
URL:https://kieler-stadtgeschichte.de/veranstaltung/ich-wandre-durch-theresienstadt-musikalische-lesung-und-zeitzeugengespraech/
LOCATION:Schauspielhaus Kiel
ATTACH;FMTTYPE=image/jpeg:https://kieler-stadtgeschichte.de/wp-content/uploads/2025/09/DanielHaekerPhotography_03.jpg
END:VEVENT
END:VCALENDAR