BEGIN:VCALENDAR
VERSION:2.0
PRODID:-//Gesellschaft für Kieler Stadtgeschichte e.V. - ECPv6.15.20//NONSGML v1.0//EN
CALSCALE:GREGORIAN
METHOD:PUBLISH
X-WR-CALNAME:Gesellschaft für Kieler Stadtgeschichte e.V.
X-ORIGINAL-URL:https://kieler-stadtgeschichte.de
X-WR-CALDESC:Veranstaltungen für Gesellschaft für Kieler Stadtgeschichte e.V.
REFRESH-INTERVAL;VALUE=DURATION:PT1H
X-Robots-Tag:noindex
X-PUBLISHED-TTL:PT1H
BEGIN:VTIMEZONE
TZID:Europe/Berlin
BEGIN:DAYLIGHT
TZOFFSETFROM:+0100
TZOFFSETTO:+0200
TZNAME:CEST
DTSTART:20240331T010000
END:DAYLIGHT
BEGIN:STANDARD
TZOFFSETFROM:+0200
TZOFFSETTO:+0100
TZNAME:CET
DTSTART:20241027T010000
END:STANDARD
BEGIN:DAYLIGHT
TZOFFSETFROM:+0100
TZOFFSETTO:+0200
TZNAME:CEST
DTSTART:20250330T010000
END:DAYLIGHT
BEGIN:STANDARD
TZOFFSETFROM:+0200
TZOFFSETTO:+0100
TZNAME:CET
DTSTART:20251026T010000
END:STANDARD
BEGIN:DAYLIGHT
TZOFFSETFROM:+0100
TZOFFSETTO:+0200
TZNAME:CEST
DTSTART:20260329T010000
END:DAYLIGHT
BEGIN:STANDARD
TZOFFSETFROM:+0200
TZOFFSETTO:+0100
TZNAME:CET
DTSTART:20261025T010000
END:STANDARD
END:VTIMEZONE
BEGIN:VEVENT
DTSTART;TZID=Europe/Berlin:20251120T190000
DTEND;TZID=Europe/Berlin:20251120T213000
DTSTAMP:20260422T182015
CREATED:20251113T095922Z
LAST-MODIFIED:20251115T102108Z
UID:251756-1763665200-1763674200@kieler-stadtgeschichte.de
SUMMARY:Ein Abend „In guter Gesellschaft“
DESCRIPTION:Kennenlernen – Austauschen – In guter Gesellschaft! \nWir möchten euch herzlich zum Abend  „In guter Gesellschaft“ einladen – einem offenen Abend für Mitglieder – und jene\, die es werden wollen –\, die Lust auf Begegnung\, Gespräche und ein geselliges Miteinander haben. Unsere Gesellschaft hat knapp 1.400 Mitglieder. Wir wollen einander besser kennenlernen\, uns persönlich austauschen und in lockerer Atmosphäre einen gemütlichen Abend verbringen. \nOb ihr bereits aktiv in der Gruppe mitarbeitet\, Interesse habt\, euch künftig mehr einzubringen\, oder einfach neugierig seid\, wer hinter den Projekten rund um die Kieler Stadtgeschichte steckt – kommt gerne vorbei! \nWir freuen uns auf einen anregenden Abend mit spannenden Gesprächen\, neuen Kontakten und vielleicht auch auf Ideen\, die sich ganz nebenbei aus einem guten Gespräch entwickeln. \n„In guter Gesellschaft“ soll künftig regelmäßig stattfinden – der Ort darf dabei gern wechseln. Vorschläge sind herzlich willkommen!
URL:https://kieler-stadtgeschichte.de/veranstaltung/einladung-in-guter-gesellschaft/
LOCATION:Strongbow’s Pub |\, Schauenburgerstraße 39\, Kiel\, 24105
ATTACH;FMTTYPE=image/png:https://kieler-stadtgeschichte.de/wp-content/uploads/2025/11/Stammtisch.png
END:VEVENT
END:VCALENDAR