BEGIN:VCALENDAR
VERSION:2.0
PRODID:-//Gesellschaft für Kieler Stadtgeschichte e.V. - ECPv6.15.20//NONSGML v1.0//EN
CALSCALE:GREGORIAN
METHOD:PUBLISH
X-ORIGINAL-URL:https://kieler-stadtgeschichte.de
X-WR-CALDESC:Veranstaltungen für Gesellschaft für Kieler Stadtgeschichte e.V.
REFRESH-INTERVAL;VALUE=DURATION:PT1H
X-Robots-Tag:noindex
X-PUBLISHED-TTL:PT1H
BEGIN:VTIMEZONE
TZID:Europe/Berlin
BEGIN:DAYLIGHT
TZOFFSETFROM:+0100
TZOFFSETTO:+0200
TZNAME:CEST
DTSTART:20250330T010000
END:DAYLIGHT
BEGIN:STANDARD
TZOFFSETFROM:+0200
TZOFFSETTO:+0100
TZNAME:CET
DTSTART:20251026T010000
END:STANDARD
BEGIN:DAYLIGHT
TZOFFSETFROM:+0100
TZOFFSETTO:+0200
TZNAME:CEST
DTSTART:20260329T010000
END:DAYLIGHT
BEGIN:STANDARD
TZOFFSETFROM:+0200
TZOFFSETTO:+0100
TZNAME:CET
DTSTART:20261025T010000
END:STANDARD
BEGIN:DAYLIGHT
TZOFFSETFROM:+0100
TZOFFSETTO:+0200
TZNAME:CEST
DTSTART:20270328T010000
END:DAYLIGHT
BEGIN:STANDARD
TZOFFSETFROM:+0200
TZOFFSETTO:+0100
TZNAME:CET
DTSTART:20271031T010000
END:STANDARD
END:VTIMEZONE
BEGIN:VEVENT
DTSTART;TZID=Europe/Berlin:20260123T180000
DTEND;TZID=Europe/Berlin:20260123T190000
DTSTAMP:20260422T125631
CREATED:20260115T090523Z
LAST-MODIFIED:20260115T090523Z
UID:251901-1769191200-1769194800@kieler-stadtgeschichte.de
SUMMARY:"Carl Loewe und seine Zeit" - Einladung zum Gesprächskonzert
DESCRIPTION:Carl Loewe galt zu Lebzeiten – neben Franz Schubert – als einer der wichtigsten Lied- und Balladenkomponisten des 19. Jahrhunderts. Während Schubert stärker lyrisch-melodisch arbeitete\, zeichnen sich Loewes Werke oft durch dramatische Zuspitzung\, klare Charakterzeichnung\, erzählerische Prägnanz aus. Er fiel schon als Kind durch seine musikalische Begabung auf. Besonders bekannt sind seine Balladen nach literarischen Vorlagen. Daneben komponierte er auch Oratorien und Sinfonien\, Kammermusik und Klavierwerke. Einen Einblick in sein Schaffen gibt das bekannte Bläserensemble „Blech-Harmonie“. Es spielt an diesem Abend Werke von Carl Loewe sowie Franz Schubert\, Fanny Hensel\, Johannes Brahms und anderen. Im Rahmen des Konzertes erinnert Rolf Fischer mit einer Lesung an den Komponisten\, der seinen Lebensabend in Kiel verbrachte. Sein Grabstein steht im Kirchenraum. \nSie sind herzlich eingeladen! Die Veranstaltung am Freitag\, den 23. Januar 2026\, in der St. Nicolai-Kirche am Alten Markt beginnt um 18.00 Uhr und dauert circa 60 Minuten. Der Eintritt ist kostenfrei und barrierearm. Eine Voranmeldung ist nicht nötig.
URL:https://kieler-stadtgeschichte.de/veranstaltung/gespaechskonzert-carl-loewe-und-seine-zeit/
LOCATION:Nikolaikirche |\, Alter Markt\, Kiel\, 24103
ATTACH;FMTTYPE=image/jpeg:https://kieler-stadtgeschichte.de/wp-content/uploads/2026/01/Carl_Loewe.jpg
ORGANIZER;CN="Gesellschaft f%C3%BCr Kieler Stadtgeschichte e.V.":MAILTO:info@kieler-stadtgeschichte.de
END:VEVENT
END:VCALENDAR